BEGIN:VCALENDAR
VERSION:2.0
PRODID:-//hacksw/handcal//NONSGML v1.0//EN
BEGIN:VEVENT
SUMMARY:Les seniors B vont gagner a Naizin
UID:7decdea0-b64c-4ee9-b6cd-bba43b004046
DTSTART:20240821T171500Z
DTEND:20240821T190000Z
LOCATION:Localisation   
CATEGORIES:Sportif
STATUS:
URL;VALUE=URI:https://www.baudfc.fr/evenements/2024/08/21/les-seniors-b-vont-gagner-a-naizin-2046923
END:VEVENT
BEGIN:VEVENT
SUMMARY:LE CHALLENGE ECHAPPE AUX SENIORS B 
UID:0d8ad3b4-5f71-4758-8705-91f04be21b4d
DTSTART:20240831T140000Z
DTEND:20240831T154500Z
LOCATION:Localisation   
CATEGORIES:Sportif
STATUS:
DESCRIPTION:<p>MATCH A 16H00 AU STADE MUNICIPAL DE
 LANDEVANT</p>
 
 <p>LE CHAMPION DE D1 CONTRE LE VAINQUEUR DU TROPHEE DU
 MORBIHAN</p>
 
URL;VALUE=URI:https://www.baudfc.fr/evenements/2024/08/31/le-challenge-echappe-aux-seniors-b-2052853
END:VEVENT
BEGIN:VEVENT
SUMMARY:Les seniors B ratent leur debut de match
UID:d97af136-923f-4284-8b91-054c01d7a879
DTSTART:20241006T133000Z
DTEND:20241006T151500Z
LOCATION:Localisation   
CATEGORIES:Sportif
STATUS:
URL;VALUE=URI:https://www.baudfc.fr/evenements/2024/10/06/les-seniors-b-ratent-leur-debut-de-match-2104502
END:VEVENT
BEGIN:VEVENT
SUMMARY:Les seniors B gagnent le derby
UID:50563491-eda3-4278-906f-c0fbf6d6be12
DTSTART:20241020T113000Z
DTEND:20241020T131500Z
LOCATION:Localisation   
CATEGORIES:Sportif
STATUS:
URL;VALUE=URI:https://www.baudfc.fr/evenements/2024/10/20/les-seniors-b-gagnent-le-derby-2113620
END:VEVENT
BEGIN:VEVENT
SUMMARY:Un double de Baptiste donne la victoire aux seniors B
UID:e1380ad8-596e-4589-89aa-eeee7ba80f32
DTSTART:20241103T140000Z
DTEND:20241103T154500Z
LOCATION:Localisation   
CATEGORIES:Sportif
STATUS:
URL;VALUE=URI:https://www.baudfc.fr/evenements/2024/11/03/un-double-de-baptiste-donne-la-victoire-aux-seniors-b-2125162
END:VEVENT
BEGIN:VEVENT
SUMMARY:A chacun sa mi-temps
UID:3e875664-f7a2-40a7-a718-163ea08fc69e
DTSTART:20241110T120000Z
DTEND:20241110T140000Z
LOCATION:Localisation   
CATEGORIES:Sportif
STATUS:
URL;VALUE=URI:https://www.baudfc.fr/evenements/2024/11/10/a-chacun-sa-mi-temps-2128763
END:VEVENT
BEGIN:VEVENT
SUMMARY:VICTOIRE DES SENIORS B EN AMICAL
UID:96db0fc7-2e1b-4234-8d73-3f18cf43e402
DTSTART:20241115T190000Z
DTEND:20241115T204500Z
LOCATION:Localisation   
CATEGORIES:Sportif
STATUS:
URL;VALUE=URI:https://www.baudfc.fr/evenements/2024/11/15/victoire-des-seniors-b-en-amical-2134221
END:VEVENT
BEGIN:VEVENT
SUMMARY:Les seniors B tiennent en echec le leader
UID:85d6d570-b97f-4ac3-8306-f3afe9353299
DTSTART:20241201T140000Z
DTEND:20241201T154500Z
LOCATION:Localisation   
CATEGORIES:Sportif
STATUS:
URL;VALUE=URI:https://www.baudfc.fr/evenements/2024/12/01/les-seniors-b-tiennent-en-echec-le-leader-2142116
END:VEVENT
END:VCALENDAR
