BEGIN:VCALENDAR
VERSION:2.0
PRODID:-//hacksw/handcal//NONSGML v1.0//EN
BEGIN:VEVENT
SUMMARY:Des regrets pour les seniors D
UID:3525b42e-16be-4308-ad6a-3f84b1fc3eee
DTSTART:20241006T113000Z
DTEND:20241006T131500Z
LOCATION:Localisation   
CATEGORIES:Sportif
STATUS:
URL;VALUE=URI:https://www.baudfc.fr/evenements/2024/10/06/des-regrets-pour-les-seniors-d-2104487
END:VEVENT
BEGIN:VEVENT
SUMMARY:Toujours pas de victoire pour l'equipe D
UID:de3f288a-ef63-4dc6-9eae-1f2626f5b6dd
DTSTART:20241020T113000Z
DTEND:20241020T131500Z
LOCATION:Localisation   
CATEGORIES:Sportif
STATUS:
URL;VALUE=URI:https://www.baudfc.fr/evenements/2024/10/20/toujours-pas-de-victoire-pour-lequipe-d-2113618
END:VEVENT
BEGIN:VEVENT
SUMMARY:Premiere victoire des seniors D 
UID:d7db7a8b-b286-4571-bf5f-3156cf722802
DTSTART:20241103T120000Z
DTEND:20241103T134500Z
LOCATION:Localisation   
CATEGORIES:Sportif
STATUS:
URL;VALUE=URI:https://www.baudfc.fr/evenements/2024/11/03/premiere-victoire-des-seniors-d-2125108
END:VEVENT
BEGIN:VEVENT
SUMMARY:Lourde defaite des seniors D
UID:b413ec5e-e106-4058-a525-825139e624c4
DTSTART:20241201T120000Z
DTEND:20241201T134500Z
LOCATION:Localisation   
CATEGORIES:Sportif
STATUS:
URL;VALUE=URI:https://www.baudfc.fr/evenements/2024/12/01/lourde-defaite-des-seniors-d-2142107
END:VEVENT
END:VCALENDAR
